BEGIN:VCALENDAR
VERSION:2.0
PRODID:-//Sabre//Sabre VObject 4.5.7//EN
CALSCALE:GREGORIAN
BEGIN:VEVENT
UID:sabre-vobject-df68832e-9380-4854-a1f7-704ed0980ea2
DTSTAMP:20260424T232713Z
SUMMARY:Himmelfahrtsgottesdienst in Oldenhütten\; Pn. Trede
DTSTART;TZID=Europe/Berlin:20260514T110000
ORGANIZER;CN=Ev.-Luth. Kirchengemeinde Nortorf:MAILTO:kirche-nortorf@kkre.d
 e
LOCATION:Spielplatz am Dorfgemeinschaftshaus\, Am Teich 4\, Oldenhütten
DESCRIPTION:\nGottesdienst unter freiem HimmelIm Anschluss an den Gottesdie
 nst wollen wir miteinander picknicken. Dafür freuen wir uns über einen B
 eitrag zu einem bunten Mitbringbuffet. Geschirr bringt bitte jede*r selbst
  mit. Für Mineralwasser und Kaffee ist gesorgt.
BEGIN:VALARM
TRIGGER;VALUE=DURATION:P1D
ACTION:DISPLAY
DESCRIPTION:Himmelfahrtsgottesdienst in Oldenhütten\; Pn. Trede
END:VALARM
END:VEVENT
END:VCALENDAR
