BEGIN:VCALENDAR
VERSION:2.0
PRODID:-//Sabre//Sabre VObject 4.5.7//EN
CALSCALE:GREGORIAN
BEGIN:VEVENT
UID:sabre-vobject-2fa2db11-49bd-4c2c-ab8a-e10d1f6f6546
DTSTAMP:20260420T021359Z
SUMMARY:Konfirmationsgottesdienst in Langwedel\; Pn. Dr. Bauer
DTSTART;TZID=Europe/Berlin:20260509T140000
ORGANIZER;CN=Ev.-Luth. Kirchengemeinde Nortorf:MAILTO:kirche-nortorf@kkre.d
 e
LOCATION:Paul-Gerhardt-Kapelle Langwedel\, Nortorfer Str. 27\, Langwedel
GEO:54.210111;9.927515
BEGIN:VALARM
TRIGGER;VALUE=DURATION:P1D
ACTION:DISPLAY
DESCRIPTION:Konfirmationsgottesdienst in Langwedel\; Pn. Dr. Bauer
END:VALARM
END:VEVENT
END:VCALENDAR
