BEGIN:VCALENDAR
VERSION:2.0
PRODID:-//Sabre//Sabre VObject 4.5.7//EN
CALSCALE:GREGORIAN
BEGIN:VEVENT
UID:sabre-vobject-e21dd0b4-42fc-46c6-b75a-e4c2a686e2f4
DTSTAMP:20260424T233236Z
SUMMARY:Konzert "Gloria"
DTSTART;TZID=Europe/Berlin:20260523T181000
ORGANIZER;CN=Ev.-Luth. Kirchengemeinde Nortorf:MAILTO:kirche-nortorf@kkre.d
 e
LOCATION:St. Martin-Kirche Nortorf\, Am Markt\, Nortorf
GEO:54.169932;9.854349
DESCRIPTION:Werke von Bach\, Mozart\, Haydn und Friedrich II
BEGIN:VALARM
TRIGGER;VALUE=DURATION:P1D
ACTION:DISPLAY
DESCRIPTION:Konzert "Gloria"
END:VALARM
END:VEVENT
END:VCALENDAR
