BEGIN:VCALENDAR
VERSION:2.0
PRODID:-//Sabre//Sabre VObject 4.5.7//EN
CALSCALE:GREGORIAN
BEGIN:VEVENT
UID:sabre-vobject-f871fd3c-2efc-44f2-8bdb-ccb311c718eb
DTSTAMP:20260424T232910Z
SUMMARY:Vortrag: "Meine Pilgerreise in Norwegen"
DTSTART;TZID=Europe/Berlin:20260518T183000
ORGANIZER;CN=Ev.-Luth. Kirchengemeinde Nortorf:MAILTO:kirche-nortorf@kkre.d
 e
LOCATION:Markushaus\, Niedernstr. 2\, Nortorf
GEO:54.169942;9.855626
DESCRIPTION:\nKarin Kreutz aus Aukrug wird über ihre 18-tägige Pilgerreis
 e in der Gruppe von Dovre über das Dovrefjell nach Trondheim berichten.Si
 e zeigt Bilder vom Weg\, den Kirchen\, der Natur und den Unterkünften und
  kann viel von ihren eigenen Erfahrungen erzählen.
BEGIN:VALARM
TRIGGER;VALUE=DURATION:P1D
ACTION:DISPLAY
DESCRIPTION:Vortrag: "Meine Pilgerreise in Norwegen"
END:VALARM
END:VEVENT
END:VCALENDAR
